BEGIN:VCALENDAR
VERSION:2.0
PRODID:-//wp-events-plugin.com//7.2.3.1//EN
BEGIN:VEVENT
UID:5@cranberryballroom.com
DTSTART;TZID=America/New_York:20230422T190000
DTEND;TZID=America/New_York:20230422T220000
DTSTAMP:20230417T172424Z
URL:https://cranberryballroom.com/events/23-apr/
SUMMARY:Night at the Movies
DESCRIPTION:Catch our west coast swing lesson\, then dance to your favorite
  movie tunes. Dress up and bit for a red carpet vibe or come bounding in a
 s your favorite movie character. 7:00 west coast swing lesson (Frank Blake
 more)\; 8:00 social ballroom dancing. $15 gets you the lesson\, dancing\, 
 and snacks. (Contributions to the snack table are welcome.) Come dance wit
 h us!
ATTACH;FMTTYPE=image/jpeg:https://i0.wp.com/cranberryballroom.com/wp-conte
 nt/uploads/2023/01/movie-reel.jpeg?fit=1920%2C1080&ssl=1
LOCATION:Cranberry Township Municipal Center\, 2525 Rochester Road\, Cranbe
 rry Township\, PA\, 16066\, United States
X-APPLE-STRUCTURED-LOCATION;VALUE=URI;X-ADDRESS=2525 Rochester Road\, Cranb
 erry Township\, PA\, 16066\, United States;X-APPLE-RADIUS=100;X-TITLE=Cran
 berry Township Municipal Center:geo:0,0
END:VEVENT
BEGIN:VTIMEZONE
TZID:America/New_York
X-LIC-LOCATION:America/New_York
BEGIN:DAYLIGHT
DTSTART:20230312T030000
TZOFFSETFROM:-0500
TZOFFSETTO:-0400
TZNAME:EDT
END:DAYLIGHT
END:VTIMEZONE
END:VCALENDAR