BEGIN:VCALENDAR
VERSION:2.0
PRODID:-//wp-events-plugin.com//7.2.3.1//EN
BEGIN:VEVENT
UID:9@cranberryballroom.com
DTSTART;TZID=America/New_York:20230812T190000
DTEND;TZID=America/New_York:20230812T220000
DTSTAMP:20230727T184309Z
URL:https://cranberryballroom.com/events/23-aug/
SUMMARY:Polka Dot Picnic
DESCRIPTION:Pull out your polka dotted\, vintage\, and retro duds and join 
 us for a ballroom dance that swings! (Note we're switching weekends with P
 ittsburgh Ballroom\, so we're on the 2nd Saturday this month.) 7:00 east c
 oast swing lesson (Jimmy Page\, Night & Day Dance Studio)\; 8:00 social ba
 llroom dancing. $15 gets you the lesson\, dancing\, and snacks. (Contribut
 ions to the snack table are welcome.) Come dance with us!
ATTACH;FMTTYPE=image/jpeg:https://i0.wp.com/cranberryballroom.com/wp-conte
 nt/uploads/2023/01/dots.jpeg?fit=2400%2C1801&ssl=1
LOCATION:Cranberry Township Municipal Center\, 2525 Rochester Road\, Cranbe
 rry Township\, PA\, 16066\, United States
X-APPLE-STRUCTURED-LOCATION;VALUE=URI;X-ADDRESS=2525 Rochester Road\, Cranb
 erry Township\, PA\, 16066\, United States;X-APPLE-RADIUS=100;X-TITLE=Cran
 berry Township Municipal Center:geo:0,0
END:VEVENT
BEGIN:VTIMEZONE
TZID:America/New_York
X-LIC-LOCATION:America/New_York
BEGIN:DAYLIGHT
DTSTART:20230312T030000
TZOFFSETFROM:-0500
TZOFFSETTO:-0400
TZNAME:EDT
END:DAYLIGHT
END:VTIMEZONE
END:VCALENDAR