BEGIN:VCALENDAR
VERSION:2.0
PRODID:-//wp-events-plugin.com//7.2.3.1//EN
BEGIN:VEVENT
UID:2@cranberryballroom.com
DTSTART;TZID=America/New_York:20230225T190000
DTEND;TZID=America/New_York:20230225T220000
DTSTAMP:20230203T141717Z
URL:https://cranberryballroom.com/events/23-feb/
SUMMARY:Mardi Gras
DESCRIPTION:Warm up with our monthly dance at the Cranberry Township Munici
 pal Center! Dances with lessons are held every 4th Saturday of the month. 
 If you're so inclined\, bust out your purple\, gold\, and green for Mardi 
 Gras. Facebook event\n\n7:00 ~ waltz lesson (Mikayla Schultz\, Arthur Murr
 ay South Hills)\n8:00 ~ social ballroom dancing\n\n$15 gets you the lesson
 \, dancing\, and snacks. (Contributions to the snack table are welcome.) C
 ome dance with us!
ATTACH;FMTTYPE=image/jpeg:https://i0.wp.com/cranberryballroom.com/wp-conte
 nt/uploads/2023/01/Mardi-Gras.jpeg?fit=800%2C533&ssl=1
LOCATION:Cranberry Township Municipal Center\, 2525 Rochester Road\, Cranbe
 rry Township\, PA\, 16066\, United States
X-APPLE-STRUCTURED-LOCATION;VALUE=URI;X-ADDRESS=2525 Rochester Road\, Cranb
 erry Township\, PA\, 16066\, United States;X-APPLE-RADIUS=100;X-TITLE=Cran
 berry Township Municipal Center:geo:0,0
END:VEVENT
BEGIN:VTIMEZONE
TZID:America/New_York
X-LIC-LOCATION:America/New_York
BEGIN:STANDARD
DTSTART:20221106T010000
TZOFFSETFROM:-0400
TZOFFSETTO:-0500
TZNAME:EST
END:STANDARD
END:VTIMEZONE
END:VCALENDAR