BEGIN:VCALENDAR
VERSION:2.0
PRODID:-//wp-events-plugin.com//7.2.3.1//EN
BEGIN:VEVENT
UID:1@cranberryballroom.com
DTSTART;TZID=America/New_York:20230128T190000
DTEND;TZID=America/New_York:20230128T220000
DTSTAMP:20230110T185841Z
URL:https://cranberryballroom.com/events/23-jan/
SUMMARY:Silver & White
DESCRIPTION:Start 2023 off on the right foot with our monthly dance at the 
 Cranberry Township Municipal Center! Dances with lessons are held every 4t
 h Saturday of the month. If you're so inclined\, the theme this month is S
 ilver &amp\; White. Facebook event\n\n7:00 ~ cha cha lesson\, Dmitry Demid
 ov (Demidov Dance)\n8:00 ~ social ballroom dancing\n\n$15 gets you the les
 son\, dancing\, and snacks. (Contributions to the snack table are welcome.
 ) Come dance with us!
ATTACH;FMTTYPE=image/jpeg:https://i0.wp.com/cranberryballroom.com/wp-conte
 nt/uploads/2023/01/silver-white-spiral-e1673373942441.jpeg?fit=900%2C506&s
 sl=1
LOCATION:Cranberry Township Municipal Center\, 2525 Rochester Road\, Cranbe
 rry Township\, PA\, 16066\, United States
X-APPLE-STRUCTURED-LOCATION;VALUE=URI;X-ADDRESS=2525 Rochester Road\, Cranb
 erry Township\, PA\, 16066\, United States;X-APPLE-RADIUS=100;X-TITLE=Cran
 berry Township Municipal Center:geo:0,0
END:VEVENT
BEGIN:VTIMEZONE
TZID:America/New_York
X-LIC-LOCATION:America/New_York
BEGIN:STANDARD
DTSTART:20221106T010000
TZOFFSETFROM:-0400
TZOFFSETTO:-0500
TZNAME:EST
END:STANDARD
END:VTIMEZONE
END:VCALENDAR