BEGIN:VCALENDAR
VERSION:2.0
PRODID:-//wp-events-plugin.com//7.2.3.1//EN
BEGIN:VEVENT
UID:4@cranberryballroom.com
DTSTART;TZID=America/New_York:20230325T190000
DTEND;TZID=America/New_York:20230325T220000
DTSTAMP:20230314T203922Z
URL:https://cranberryballroom.com/events/23-mar/
SUMMARY:Black & White
DESCRIPTION:Warm up with our monthly dance at the Cranberry Township Munici
 pal Center! Dances with lessons are held every 4th Saturday of the month. 
 Come a little more formal than normal in black and white and polish up you
 r foxtrot. Facebook event\n\n7:00 ~ foxtrot lesson\, Matt Stehle\n8:00 ~ s
 ocial ballroom dancing\n\n$15 gets you the lesson\, dancing\, and snacks. 
 (Contributions to the snack table are welcome.) Come dance with us!
ATTACH;FMTTYPE=image/jpeg:https://i0.wp.com/cranberryballroom.com/wp-conte
 nt/uploads/2023/01/fredginger.jpg?fit=1280%2C720&ssl=1
LOCATION:Cranberry Township Municipal Center\, 2525 Rochester Road\, Cranbe
 rry Township\, PA\, 16066\, United States
X-APPLE-STRUCTURED-LOCATION;VALUE=URI;X-ADDRESS=2525 Rochester Road\, Cranb
 erry Township\, PA\, 16066\, United States;X-APPLE-RADIUS=100;X-TITLE=Cran
 berry Township Municipal Center:geo:0,0
END:VEVENT
BEGIN:VTIMEZONE
TZID:America/New_York
X-LIC-LOCATION:America/New_York
BEGIN:DAYLIGHT
DTSTART:20230312T030000
TZOFFSETFROM:-0500
TZOFFSETTO:-0400
TZNAME:EDT
END:DAYLIGHT
END:VTIMEZONE
END:VCALENDAR