BEGIN:VCALENDAR
VERSION:2.0
PRODID:-//wp-events-plugin.com//7.2.3.1//EN
BEGIN:VEVENT
UID:18@cranberryballroom.com
DTSTART;TZID=America/New_York:20240217T190000
DTEND;TZID=America/New_York:20240217T220000
DTSTAMP:20240415T210100Z
URL:https://cranberryballroom.com/events/24-feb/
SUMMARY:Peppermint Swirl
DESCRIPTION:If you're so inclined\, the theme this month is Peppermint Swir
 l (red\, white\, pink). Facebook events are available at Facebook.com/Cran
 berryBallroom. 7:00 cha cha lesson with Dmitry Demidov (Demidov Dance)\; s
 ocial ballroom dancing at 8:00. $15 gets you the lesson\, dancing\, and sn
 acks. (Contributions to the snack table are welcome.) Come dance with us!
ATTACH;FMTTYPE=image/jpeg:https://i0.wp.com/cranberryballroom.com/wp-conte
 nt/uploads/2023/09/peppermint.jpeg?fit=640%2C640&ssl=1
LOCATION:Cranberry Township Municipal Center\, 2525 Rochester Road\, Cranbe
 rry Township\, PA\, 16066\, United States
X-APPLE-STRUCTURED-LOCATION;VALUE=URI;X-ADDRESS=2525 Rochester Road\, Cranb
 erry Township\, PA\, 16066\, United States;X-APPLE-RADIUS=100;X-TITLE=Cran
 berry Township Municipal Center:geo:0,0
END:VEVENT
BEGIN:VTIMEZONE
TZID:America/New_York
X-LIC-LOCATION:America/New_York
BEGIN:STANDARD
DTSTART:20231105T010000
TZOFFSETFROM:-0400
TZOFFSETTO:-0500
TZNAME:EST
END:STANDARD
END:VTIMEZONE
END:VCALENDAR