BEGIN:VCALENDAR
VERSION:2.0
PRODID:-//wp-events-plugin.com//7.2.3.1//EN
BEGIN:VEVENT
UID:17@cranberryballroom.com
DTSTART;TZID=America/New_York:20240127T190000
DTEND;TZID=America/New_York:20240127T220000
DTSTAMP:20240415T210052Z
URL:https://cranberryballroom.com/events/24-jan/
SUMMARY:Sparkling Snow
DESCRIPTION:Come a little more formal than normal in winter white and polis
 h up your foxtrot! 7:00 foxtrot lesson with Matt Stehle\; 8:00 social ball
 room dancing. $15 gets you the lesson\, dancing\, and snacks. (Contributio
 ns to the snack table are welcome.) Come dance with us!
ATTACH;FMTTYPE=image/jpeg:https://i0.wp.com/cranberryballroom.com/wp-conte
 nt/uploads/2023/09/sand-snow.jpg?fit=596%2C335&ssl=1
LOCATION:Cranberry Township Municipal Center\, 2525 Rochester Road\, Cranbe
 rry Township\, PA\, 16066\, United States
X-APPLE-STRUCTURED-LOCATION;VALUE=URI;X-ADDRESS=2525 Rochester Road\, Cranb
 erry Township\, PA\, 16066\, United States;X-APPLE-RADIUS=100;X-TITLE=Cran
 berry Township Municipal Center:geo:0,0
END:VEVENT
BEGIN:VTIMEZONE
TZID:America/New_York
X-LIC-LOCATION:America/New_York
BEGIN:STANDARD
DTSTART:20231105T010000
TZOFFSETFROM:-0400
TZOFFSETTO:-0500
TZNAME:EST
END:STANDARD
END:VTIMEZONE
END:VCALENDAR