BEGIN:VCALENDAR
VERSION:2.0
PRODID:-//wp-events-plugin.com//7.2.3.1//EN
BEGIN:VEVENT
UID:20@cranberryballroom.com
DTSTART;TZID=America/New_York:20240727T190000
DTEND;TZID=America/New_York:20240727T220000
DTSTAMP:20240716T152051Z
URL:https://cranberryballroom.com/events/24-jul/
SUMMARY:Club Tropica
DESCRIPTION:Pull out your island duds (think Hawaiian shirts and island flo
 rals) and join us for a tropical club night! 7:00 samba lesson with Cris S
 harpley (Arthur Murray South Hills)\; 8:00 social ballroom dancing. $15 ge
 ts you the lesson\, dancing\, and snacks. (Contributions to the snack tabl
 e are welcome.) Come dance with us!
ATTACH;FMTTYPE=image/jpeg:https://i0.wp.com/cranberryballroom.com/wp-conte
 nt/uploads/2023/09/shell-spiral.jpg?fit=960%2C720&ssl=1
LOCATION:Cranberry Township Municipal Center\, 2525 Rochester Road\, Cranbe
 rry Township\, PA\, 16066\, United States
X-APPLE-STRUCTURED-LOCATION;VALUE=URI;X-ADDRESS=2525 Rochester Road\, Cranb
 erry Township\, PA\, 16066\, United States;X-APPLE-RADIUS=100;X-TITLE=Cran
 berry Township Municipal Center:geo:0,0
END:VEVENT
BEGIN:VTIMEZONE
TZID:America/New_York
X-LIC-LOCATION:America/New_York
BEGIN:DAYLIGHT
DTSTART:20240310T030000
TZOFFSETFROM:-0500
TZOFFSETTO:-0400
TZNAME:EDT
END:DAYLIGHT
END:VTIMEZONE
END:VCALENDAR