BEGIN:VCALENDAR
VERSION:2.0
PRODID:-//wp-events-plugin.com//7.2.3.1//EN
BEGIN:VEVENT
UID:12@cranberryballroom.com
DTSTART;TZID=America/New_York:20241123T190000
DTEND;TZID=America/New_York:20241123T223000
DTSTAMP:20241126T183027Z
URL:https://cranberryballroom.com/events/24-nov/
SUMMARY:First Frost *ROAD TRIP*
DESCRIPTION:Please note a different location this month: we're dancing in t
 he 3rd floor ballroom at Wightman School in Squirrel Hill\, and we'll go u
 ntil 10:30 because we can. :) Bring your sparkle for this one if you're th
 eming it. Facebook events available at: Facebook/CranberryBallroom. 7:00 w
 est coast swing lesson with Frank & Victoria\, FAV Dance\; social ballroom
  dancing at 8:00. $15 gets you the lesson\, dancing\, and snacks. (Contrib
 utions to the snack table are welcome.) Come dance with us!
ATTACH;FMTTYPE=image/jpeg:https://i0.wp.com/cranberryballroom.com/wp-conte
 nt/uploads/2023/02/stars.jpg?fit=512%2C205&ssl=1
LOCATION:Wightman School\, 5604 Solway Street\, Pittsburgh\, PA\, 15217\, U
 nited States
X-APPLE-STRUCTURED-LOCATION;VALUE=URI;X-ADDRESS=5604 Solway Street\, Pittsb
 urgh\, PA\, 15217\, United States;X-APPLE-RADIUS=100;X-TITLE=Wightman Scho
 ol:geo:0,0
END:VEVENT
BEGIN:VTIMEZONE
TZID:America/New_York
X-LIC-LOCATION:America/New_York
BEGIN:STANDARD
DTSTART:20241103T010000
TZOFFSETFROM:-0400
TZOFFSETTO:-0500
TZNAME:EST
END:STANDARD
END:VTIMEZONE
END:VCALENDAR