BEGIN:VCALENDAR
VERSION:2.0
PRODID:-//wp-events-plugin.com//7.2.3.1//EN
BEGIN:VEVENT
UID:14@cranberryballroom.com
DTSTART;TZID=America/New_York:20241026T190000
DTEND;TZID=America/New_York:20241026T220000
DTSTAMP:20240923T183509Z
URL:https://cranberryballroom.com/events/24-oct/
SUMMARY:Night at the Movies
DESCRIPTION:Catch our bolero lesson\, then dance to your favorite movie tun
 es. Costumes welcome--or just dress up a bit for a red carpet vibe. 7:00 b
 olero lesson (Dmitry Demidov\, Demidov Dance)\; 8:00 social ballroom danci
 ng. $15 gets you the lesson\, dancing\, and snacks. (Contributions to the 
 snack table are welcome.) Come dance with us!
ATTACH;FMTTYPE=image/jpeg:https://i0.wp.com/cranberryballroom.com/wp-conte
 nt/uploads/2023/01/movie-reel.jpeg?fit=1920%2C1080&ssl=1
LOCATION:Cranberry Township Municipal Center\, 2525 Rochester Road\, Cranbe
 rry Township\, PA\, 16066\, United States
X-APPLE-STRUCTURED-LOCATION;VALUE=URI;X-ADDRESS=2525 Rochester Road\, Cranb
 erry Township\, PA\, 16066\, United States;X-APPLE-RADIUS=100;X-TITLE=Cran
 berry Township Municipal Center:geo:0,0
END:VEVENT
BEGIN:VTIMEZONE
TZID:America/New_York
X-LIC-LOCATION:America/New_York
BEGIN:DAYLIGHT
DTSTART:20240310T030000
TZOFFSETFROM:-0500
TZOFFSETTO:-0400
TZNAME:EDT
END:DAYLIGHT
END:VTIMEZONE
END:VCALENDAR