BEGIN:VCALENDAR
VERSION:2.0
PRODID:-//wp-events-plugin.com//7.2.3.1//EN
BEGIN:VEVENT
UID:21@cranberryballroom.com
DTSTART;TZID=America/New_York:20240928T190000
DTEND;TZID=America/New_York:20240928T220000
DTSTAMP:20240415T210148Z
URL:https://cranberryballroom.com/events/24-sep/
SUMMARY:Pumpkin Spice
DESCRIPTION:Spice up this pumpkin-filled season with a rumba lesson (come i
 n fall colors if you're theming it.) 7:00 rumba lesson with Chris Roth (St
 eel City Ballroom)\; social ballroom dancing to follow at 8:00. $15 gets y
 ou the lesson\, dancing\, and snacks. (Contributions to the snack table ar
 e welcome.) Come dance with us!
ATTACH;FMTTYPE=image/jpeg:https://i0.wp.com/cranberryballroom.com/wp-conte
 nt/uploads/2023/09/gold-chains.webp?fit=800%2C534&ssl=1
LOCATION:Cranberry Township Municipal Center\, 2525 Rochester Road\, Cranbe
 rry Township\, PA\, 16066\, United States
X-APPLE-STRUCTURED-LOCATION;VALUE=URI;X-ADDRESS=2525 Rochester Road\, Cranb
 erry Township\, PA\, 16066\, United States;X-APPLE-RADIUS=100;X-TITLE=Cran
 berry Township Municipal Center:geo:0,0
END:VEVENT
BEGIN:VTIMEZONE
TZID:America/New_York
X-LIC-LOCATION:America/New_York
BEGIN:DAYLIGHT
DTSTART:20240310T030000
TZOFFSETFROM:-0500
TZOFFSETTO:-0400
TZNAME:EDT
END:DAYLIGHT
END:VTIMEZONE
END:VCALENDAR