BEGIN:VCALENDAR
VERSION:2.0
PRODID:-//wp-events-plugin.com//7.2.3.1//EN
BEGIN:VEVENT
UID:36@cranberryballroom.com
DTSTART;TZID=America/New_York:20250426T190000
DTEND;TZID=America/New_York:20250426T220000
DTSTAMP:20250116T142007Z
URL:https://cranberryballroom.com/events/25-apr/
SUMMARY:Feelin' Groovy
DESCRIPTION:Come feeling' groovy in your 70's duds! 7:00 east coast swing l
 esson with Chris Roth (Steel City Ballroom)\; 8:00 social ballroom dancing
 . $15 gets you the lesson\, dancing\, and snacks. (Contributions to the sn
 ack table are welcome.) Come dance with us!
ATTACH;FMTTYPE=image/jpeg:https://i0.wp.com/cranberryballroom.com/wp-conte
 nt/uploads/2023/01/hustle-e1673385896139.jpg?fit=1280%2C972&ssl=1
LOCATION:Cranberry Township Municipal Center\, 2525 Rochester Road\, Cranbe
 rry Township\, PA\, 16066\, United States
X-APPLE-STRUCTURED-LOCATION;VALUE=URI;X-ADDRESS=2525 Rochester Road\, Cranb
 erry Township\, PA\, 16066\, United States;X-APPLE-RADIUS=100;X-TITLE=Cran
 berry Township Municipal Center:geo:0,0
END:VEVENT
BEGIN:VTIMEZONE
TZID:America/New_York
X-LIC-LOCATION:America/New_York
BEGIN:DAYLIGHT
DTSTART:20250309T030000
TZOFFSETFROM:-0500
TZOFFSETTO:-0400
TZNAME:EDT
END:DAYLIGHT
END:VTIMEZONE
END:VCALENDAR