BEGIN:VCALENDAR
VERSION:2.0
PRODID:-//wp-events-plugin.com//7.2.3.1//EN
BEGIN:VEVENT
UID:13@cranberryballroom.com
DTSTART;TZID=America/New_York:20251220T190000
DTEND;TZID=America/New_York:20251220T220000
DTSTAMP:20251120T160628Z
URL:https://cranberryballroom.com/events/25-dec/
SUMMARY:Merry & Bright *ROAD TRIP*
DESCRIPTION:Monthly dance\, road trip edition! Dances with lessons are *usu
 ally* held every 4th Saturday of the month...we're dancing a week early be
 cause of the holidays\, and we're at Wightman for another road trip editio
 n to round out the year. Bust out your red\, green\, and festive\, and com
 e dance with us. Facebook events are available at Facebook.com/CranberryBa
 llroom.\n\nNo lesson this month\; ballroom dancing starts promptly at 7:00
 .\n\n$15 gets you the lesson\, dancing\, and snacks. (Contributions to the
  snack table are welcome.) Come dance with us!
ATTACH;FMTTYPE=image/jpeg:https://i0.wp.com/cranberryballroom.com/wp-conte
 nt/uploads/2023/02/Christmas-lights.webp?fit=1600%2C1065&ssl=1
LOCATION:Wightman School\, 5604 Solway Street\, Pittsburgh\, PA\, 15217\, U
 nited States
X-APPLE-STRUCTURED-LOCATION;VALUE=URI;X-ADDRESS=5604 Solway Street\, Pittsb
 urgh\, PA\, 15217\, United States;X-APPLE-RADIUS=100;X-TITLE=Wightman Scho
 ol:geo:0,0
END:VEVENT
BEGIN:VTIMEZONE
TZID:America/New_York
X-LIC-LOCATION:America/New_York
BEGIN:STANDARD
DTSTART:20251102T010000
TZOFFSETFROM:-0400
TZOFFSETTO:-0500
TZNAME:EST
END:STANDARD
END:VTIMEZONE
END:VCALENDAR