BEGIN:VCALENDAR
VERSION:2.0
PRODID:-//wp-events-plugin.com//7.2.3.1//EN
BEGIN:VEVENT
UID:25@cranberryballroom.com
DTSTART;TZID=America/New_York:20250222T190000
DTEND;TZID=America/New_York:20250222T220000
DTSTAMP:20250123T032436Z
URL:https://cranberryballroom.com/events/25-feb/
SUMMARY:RED
DESCRIPTION:If you're so inclined\, the theme this month is RED. Facebook e
 vents are available at Facebook.com/CranberryBallroom. 7:00 cha cha lesson
  with Matt Stehle (Ballroom Jam)\; social ballroom dancing at 8:00. $15 ge
 ts you the lesson\, dancing\, and snacks. (Contributions to the snack tabl
 e are welcome.) Come dance with us!
ATTACH;FMTTYPE=image/jpeg:https://i0.wp.com/cranberryballroom.com/wp-conte
 nt/uploads/2024/09/flaming-tongues.jpg?fit=1201%2C800&ssl=1
LOCATION:Cranberry Township Municipal Center\, 2525 Rochester Road\, Cranbe
 rry Township\, PA\, 16066\, United States
X-APPLE-STRUCTURED-LOCATION;VALUE=URI;X-ADDRESS=2525 Rochester Road\, Cranb
 erry Township\, PA\, 16066\, United States;X-APPLE-RADIUS=100;X-TITLE=Cran
 berry Township Municipal Center:geo:0,0
END:VEVENT
BEGIN:VTIMEZONE
TZID:America/New_York
X-LIC-LOCATION:America/New_York
BEGIN:STANDARD
DTSTART:20241103T010000
TZOFFSETFROM:-0400
TZOFFSETTO:-0500
TZNAME:EST
END:STANDARD
END:VTIMEZONE
END:VCALENDAR