BEGIN:VCALENDAR
VERSION:2.0
PRODID:-//wp-events-plugin.com//7.2.3.1//EN
BEGIN:VEVENT
UID:24@cranberryballroom.com
DTSTART;TZID=America/New_York:20250125T190000
DTEND;TZID=America/New_York:20250125T220000
DTSTAMP:20241030T172635Z
URL:https://cranberryballroom.com/events/25-jan/
SUMMARY:Winter Wonderland / White Party
DESCRIPTION:Pull out your winter whites and polish up your foxtrot. 7:00 fo
 xtrot lesson with Dmitry Demidov (Demidov Dance)\; 8:00 social ballroom da
 ncing. $15 gets you the lesson\, dancing\, and snacks. (Contributions to t
 he snack table are welcome.) Come dance with us!
ATTACH;FMTTYPE=image/jpeg:https://i0.wp.com/cranberryballroom.com/wp-conte
 nt/uploads/2024/09/snowflake.jpg?fit=612%2C459&ssl=1
LOCATION:Cranberry Township Municipal Center\, 2525 Rochester Road\, Cranbe
 rry Township\, PA\, 16066\, United States
X-APPLE-STRUCTURED-LOCATION;VALUE=URI;X-ADDRESS=2525 Rochester Road\, Cranb
 erry Township\, PA\, 16066\, United States;X-APPLE-RADIUS=100;X-TITLE=Cran
 berry Township Municipal Center:geo:0,0
END:VEVENT
BEGIN:VTIMEZONE
TZID:America/New_York
X-LIC-LOCATION:America/New_York
BEGIN:STANDARD
DTSTART:20241103T010000
TZOFFSETFROM:-0400
TZOFFSETTO:-0500
TZNAME:EST
END:STANDARD
END:VTIMEZONE
END:VCALENDAR