BEGIN:VCALENDAR
VERSION:2.0
PRODID:-//wp-events-plugin.com//7.2.3.1//EN
BEGIN:VEVENT
UID:26@cranberryballroom.com
DTSTART;TZID=America/New_York:20250322T190000
DTEND;TZID=America/New_York:20250322T220000
DTSTAMP:20250116T141616Z
URL:https://cranberryballroom.com/events/25-mar/
SUMMARY:Cool Blues
DESCRIPTION:Come wearing blue if you're theming it. 7:00 west coast swing l
 esson (Frank & Victoria\, FAV Dance)\; 8:00 social ballroom dancing. $15 g
 ets you the lesson\, dancing\, and snacks. (Contributions to the snack tab
 le are welcome.) Come dance with us!
ATTACH;FMTTYPE=image/jpeg:https://i0.wp.com/cranberryballroom.com/wp-conte
 nt/uploads/2024/09/ocean-vibrant.jpeg?fit=900%2C900&ssl=1
LOCATION:Cranberry Township Municipal Center\, 2525 Rochester Road\, Cranbe
 rry Township\, PA\, 16066\, United States
X-APPLE-STRUCTURED-LOCATION;VALUE=URI;X-ADDRESS=2525 Rochester Road\, Cranb
 erry Township\, PA\, 16066\, United States;X-APPLE-RADIUS=100;X-TITLE=Cran
 berry Township Municipal Center:geo:0,0
END:VEVENT
BEGIN:VTIMEZONE
TZID:America/New_York
X-LIC-LOCATION:America/New_York
BEGIN:DAYLIGHT
DTSTART:20250309T030000
TZOFFSETFROM:-0500
TZOFFSETTO:-0400
TZNAME:EDT
END:DAYLIGHT
END:VTIMEZONE
END:VCALENDAR