BEGIN:VCALENDAR
VERSION:2.0
PRODID:-//wp-events-plugin.com//7.2.3.1//EN
BEGIN:VEVENT
UID:39@cranberryballroom.com
DTSTART;TZID=America/New_York:20260321T190000
DTEND;TZID=America/New_York:20260321T220000
DTSTAMP:20251202T191550Z
URL:https://cranberryballroom.com/events/26-mar/
SUMMARY:Springtime in Paris
DESCRIPTION:Dances with lessons are held most 4th Saturdays of the month\; 
 we're on the 3rd weekend this time to accommodate USA Dance Nationals at t
 he end of the month. Come très chic in pastel colors if you're theming it
 . 7:00 west coast swing lesson (Brad & Sarah Wheeler\, PghWCS)\; 8:00 soci
 al ballroom dancing. $15 gets you the lesson\, dancing\, and snacks. (Cont
 ributions to the snack table are welcome.) Come dance with us!
ATTACH;FMTTYPE=image/jpeg:https://i0.wp.com/cranberryballroom.com/wp-conte
 nt/uploads/2025/11/pink.jpg?fit=1800%2C1349&ssl=1
LOCATION:Cranberry Township Municipal Center\, 2525 Rochester Road\, Cranbe
 rry Township\, PA\, 16066\, United States
X-APPLE-STRUCTURED-LOCATION;VALUE=URI;X-ADDRESS=2525 Rochester Road\, Cranb
 erry Township\, PA\, 16066\, United States;X-APPLE-RADIUS=100;X-TITLE=Cran
 berry Township Municipal Center:geo:0,0
END:VEVENT
BEGIN:VTIMEZONE
TZID:America/New_York
X-LIC-LOCATION:America/New_York
BEGIN:DAYLIGHT
DTSTART:20260308T030000
TZOFFSETFROM:-0500
TZOFFSETTO:-0400
TZNAME:EDT
END:DAYLIGHT
END:VTIMEZONE
END:VCALENDAR