BEGIN:VCALENDAR
VERSION:2.0
PRODID:-//wp-events-plugin.com//7.2.3.1//EN
BEGIN:VEVENT
UID:43@cranberryballroom.com
DTSTART;TZID=America/New_York:20261024T190000
DTEND;TZID=America/New_York:20261024T220000
DTSTAMP:20260206T040230Z
URL:https://cranberryballroom.com/events/26-oct/
SUMMARY:NEON / 1980s
DESCRIPTION:The playlist features hits from the 80s--come bold\, bright\, a
 nd vintage if you're theming it. 7:00 west coast swing lesson (Frank Blake
 more & Victoria Andromalos-Dale\, FAV Dance)\; 8:00 social ballroom dancin
 g. $15 gets you the lesson\, dancing\, and snacks. (Contributions to the s
 nack table are welcome.) Come dance with us!
ATTACH;FMTTYPE=image/jpeg:https://i0.wp.com/cranberryballroom.com/wp-conte
 nt/uploads/2023/01/iridesce.jpg?fit=1131%2C707&ssl=1
LOCATION:Cranberry Township Municipal Center\, 2525 Rochester Road\, Cranbe
 rry Township\, PA\, 16066\, United States
X-APPLE-STRUCTURED-LOCATION;VALUE=URI;X-ADDRESS=2525 Rochester Road\, Cranb
 erry Township\, PA\, 16066\, United States;X-APPLE-RADIUS=100;X-TITLE=Cran
 berry Township Municipal Center:geo:0,0
END:VEVENT
BEGIN:VTIMEZONE
TZID:America/New_York
X-LIC-LOCATION:America/New_York
BEGIN:DAYLIGHT
DTSTART:20260308T030000
TZOFFSETFROM:-0500
TZOFFSETTO:-0400
TZNAME:EDT
END:DAYLIGHT
END:VTIMEZONE
END:VCALENDAR