BEGIN:VCALENDAR
VERSION:2.0
PRODID:-//wp-events-plugin.com//7.2.3.1//EN
BEGIN:VEVENT
UID:42@cranberryballroom.com
DTSTART;TZID=America/New_York:20260926T190000
DTEND;TZID=America/New_York:20260926T220000
DTSTAMP:20260206T035809Z
URL:https://cranberryballroom.com/events/26-sep/
SUMMARY:Night at the Movies
DESCRIPTION:Dress up a bit for a red carpet vibe if you're theming it and c
 ome dance to your favorite movie tunes. 7:00 bolero lesson with Chris Roth
  (Steel City Ballroom)\; social ballroom dancing to follow at 8:00. $15 ge
 ts you the lesson\, dancing\, and snacks. (Contributions to the snack tabl
 e are welcome.) Come dance with us!
ATTACH;FMTTYPE=image/jpeg:https://i0.wp.com/cranberryballroom.com/wp-conte
 nt/uploads/2023/01/movie-reel.jpeg?fit=1920%2C1080&ssl=1
LOCATION:Cranberry Township Municipal Center\, 2525 Rochester Road\, Cranbe
 rry Township\, PA\, 16066\, United States
X-APPLE-STRUCTURED-LOCATION;VALUE=URI;X-ADDRESS=2525 Rochester Road\, Cranb
 erry Township\, PA\, 16066\, United States;X-APPLE-RADIUS=100;X-TITLE=Cran
 berry Township Municipal Center:geo:0,0
END:VEVENT
BEGIN:VTIMEZONE
TZID:America/New_York
X-LIC-LOCATION:America/New_York
BEGIN:DAYLIGHT
DTSTART:20260308T030000
TZOFFSETFROM:-0500
TZOFFSETTO:-0400
TZNAME:EDT
END:DAYLIGHT
END:VTIMEZONE
END:VCALENDAR