BEGIN:VCALENDAR
VERSION:2.0
PRODID:-//wp-events-plugin.com//7.2.3.1//EN
BEGIN:VEVENT
UID:35@cranberryballroom.com
DTSTART;TZID=America/New_York:20240629T190000
DTEND;TZID=America/New_York:20240629T220000
DTSTAMP:20241030T174617Z
URL:https://cranberryballroom.com/events/mix-24/
SUMMARY:MIX
DESCRIPTION:Bonus dancing at the end of the month on the beautiful 3rd floo
 r ballroom at Wightman School! We're collaborating with Apasionado Dance f
 or a special extra event: 2 hours of ballroom\, 2 hours of west coast swin
 g / blues / zouk. Facebook events available at: Facebook.com/CranberryBall
 room. 7:00 ballroom mix\; 9:00 westt coast swing / zouk / blues mix. $12 g
 ets you admission to both socials--stay as long as you like. (Contribution
 s to the snack table are welcome.) Come dance with us!
ATTACH;FMTTYPE=image/jpeg:https://i0.wp.com/cranberryballroom.com/wp-conte
 nt/uploads/2024/10/MIX.jpg?fit=1920%2C1080&ssl=1
LOCATION:Wightman School\, 5604 Solway Street\, Pittsburgh\, PA\, 15217\, U
 nited States
X-APPLE-STRUCTURED-LOCATION;VALUE=URI;X-ADDRESS=5604 Solway Street\, Pittsb
 urgh\, PA\, 15217\, United States;X-APPLE-RADIUS=100;X-TITLE=Wightman Scho
 ol:geo:0,0
END:VEVENT
BEGIN:VTIMEZONE
TZID:America/New_York
X-LIC-LOCATION:America/New_York
BEGIN:DAYLIGHT
DTSTART:20240310T030000
TZOFFSETFROM:-0500
TZOFFSETTO:-0400
TZNAME:EDT
END:DAYLIGHT
END:VTIMEZONE
END:VCALENDAR